BEGIN:VCALENDAR
VERSION:2.0
PRODID:-//hacksw/handcal//NONSGML v1.0//EN
CALSCALE:GREGORIAN
BEGIN:VEVENT
UID: 36528ae30db3538f69c757e8cc90a292
DTSTAMP:20260420T225816
DTSTART:20260423T120000
DTEND:20260423T160000
LOCATION:13, Homestead Drive, Rangiora, Canterbury
URL;VALUE=URI: https://milestonehomes.co.nz/listings/13-homestead-drive-rangiora
SUMMARY:13 Homestead Drive, Rangiora showing
END:VEVENT
END:VCALENDAR