BEGIN:VCALENDAR
VERSION:2.0
PRODID:-//hacksw/handcal//NONSGML v1.0//EN
CALSCALE:GREGORIAN
BEGIN:VEVENT
UID: 99e8919aed06ec08f8e8ad6e70c67704
DTSTAMP:20260421T002716
DTSTART:20260428T120000
DTEND:20260428T140000
LOCATION:34, Tokotoku, Maea Fields, Matamata
URL;VALUE=URI: https://milestonehomes.co.nz/listings/34-tokotoko-parade-maea-fields-matamata
SUMMARY:34 Tokotoko Parade, Maea Fields, Matamata showing
END:VEVENT
END:VCALENDAR